BEGIN:VCALENDAR
VERSION:2.0
PRODID:-//Prodi S1 Jurnalistik
CALSCALE:GREGORIAN
METHOD:PUBLISH
X-WR-CALNAME:Prodi S1 Jurnalistik
X-ORIGINAL-URL:https://social.unib.ac.id/bj/event/seat/
X-WR-CALDESC:Science In The New Era
BEGIN:VEVENT
DTSTART:20160620T160000
DTEND:20160620T120000
SUMMARY:Science In The New Era
DESCRIPTION:On the other hand, we denounce with righteous indignation and dislike men who are so beguiled and demoralized by the charms of pleasure of the moment, so blinded by desire.
LOCATION:Bentley Campus, Perth, WA
END:VEVENT
END:VCALENDAR
