BEGIN:VCALENDAR
VERSION:2.0
PRODID:-//Prodi S1 Jurnalistik
CALSCALE:GREGORIAN
METHOD:PUBLISH
X-WR-CALNAME:Prodi S1 Jurnalistik
X-ORIGINAL-URL:https://social.unib.ac.id/bj/event/sample-event/
X-WR-CALDESC:How To Sell Anything
BEGIN:VEVENT
DTSTART:20160619T093000
DTEND:20160619T120000
SUMMARY:How To Sell Anything
DESCRIPTION:At vero eos et accusamus et iusto odio dignissimos ducimus qui blanditiis praesentium voluptatum deleniti atque corrupti quos dolores et quas molestias.
LOCATION:Bentley Campus, Perth, WA
END:VEVENT
END:VCALENDAR
